BEGIN:VCALENDAR
VERSION:2.0
PRODID:Imitheme.com 
BEGIN:VEVENT
UID:20260420T0830281899752914
DTSTAMP;TZID=UTC:2026-04-20 08:30:28
DTSTART;TZID=America/Los_Angeles:20260420T083028
DTEND;TZID=America/Los_Angeles:20260420T083028
SUMMARY:Victoria's Promise does MAMMA MIA!
LOCATION:Bel & The Dragon - Odiham\, High Street\, Odiham\, Hook\, UK
DESCRIPTION:SOLD OUT If you are part of a group booking and have not yet paid for your ticket please contact Kelly@victorias-promise.org to confirm .   Please join us at the Bel & The Dragon, Odiham on 21st November 2024 for a fun night of Greek food, Live Abba Music and Dancing. With a delicious greek supper including half a bottle of wine and live entertainment throughout. It is sure to be a fantastic night with money raised to go towards supporting young women, and their families, through cancer and beyond. LIMITED TICKETS!
URL:https://www.victoriaspromise.org/events/victorias-promise-mamma-mia/
END:VEVENT
END:VCALENDAR
