BEGIN:VCALENDAR
VERSION:2.0
PRODID:Imitheme.com 
BEGIN:VEVENT
UID:20260421T0758111407101781
DTSTAMP;TZID=UTC:2026-04-21 07:58:11
DTSTART;TZID=America/Los_Angeles:20260421T075811
DTEND;TZID=America/Los_Angeles:20260421T075811
SUMMARY:Supper and Race Night
LOCATION:Bel & The Dragon - Odiham\, High Street\, Odiham\, Hook\, UK
DESCRIPTION:We\'re very excited to announce an evening of fantastic food and riveting racing! Come and place your bets, for a night of virtual horse-racing and delicious curry at Bel and The Dragon, Odiham. For more information please contact Kat; katrina@victorias-promise.org
URL:https://www.victoriaspromise.org/events/spring-supper-and-race-night/
END:VEVENT
END:VCALENDAR
